BEGIN:VCALENDAR
VERSION:2.0
PRODID:-//SyStconnect//NONSGML Event//EN
CALSCALE:GREGORIAN
METHOD:PUBLISH
X-WR-TIMEZONE:Europe/Vienna
BEGIN:VEVENT
UID:systconnect-lunch-im-juni@https://www.systconnect.net/de
DTSTAMP:20260423T114244Z
DTSTART:20260601T103000Z
DTEND:20260601T113000Z
SUMMARY:SyStconnect Lunch im Juni
DESCRIPTION:Unser regelmäßiger Systconnect Lunch&nbsp\;am Montag\, den 1. Juni 2026. Wir treffen uns mit einem informellen Austausch zum virtuellen Lunch. Nehme gern dein Mittagessen ein\, wir freuen uns auf den Austausch!Ihr seid alle herzlich eingeladen!
LOCATION:Wien\, Österreich
URL:https://www.systconnect.net/de
ORGANIZER:CN=SyStconnect
STATUS:CONFIRMED
END:VEVENT
END:VCALENDAR
